BEGIN:VCALENDAR
VERSION:2.0
PRODID:-//KDB Ministries - ECPv6.15.20//NONSGML v1.0//EN
CALSCALE:GREGORIAN
METHOD:PUBLISH
X-WR-CALNAME:KDB Ministries
X-ORIGINAL-URL:https://kdbministries.com
X-WR-CALDESC:Events for KDB Ministries
REFRESH-INTERVAL;VALUE=DURATION:PT1H
X-Robots-Tag:noindex
X-PUBLISHED-TTL:PT1H
BEGIN:VTIMEZONE
TZID:America/New_York
BEGIN:DAYLIGHT
TZOFFSETFROM:-0500
TZOFFSETTO:-0400
TZNAME:EDT
DTSTART:20220313T070000
END:DAYLIGHT
BEGIN:STANDARD
TZOFFSETFROM:-0400
TZOFFSETTO:-0500
TZNAME:EST
DTSTART:20221106T060000
END:STANDARD
BEGIN:DAYLIGHT
TZOFFSETFROM:-0500
TZOFFSETTO:-0400
TZNAME:EDT
DTSTART:20230312T070000
END:DAYLIGHT
BEGIN:STANDARD
TZOFFSETFROM:-0400
TZOFFSETTO:-0500
TZNAME:EST
DTSTART:20231105T060000
END:STANDARD
BEGIN:DAYLIGHT
TZOFFSETFROM:-0500
TZOFFSETTO:-0400
TZNAME:EDT
DTSTART:20240310T070000
END:DAYLIGHT
BEGIN:STANDARD
TZOFFSETFROM:-0400
TZOFFSETTO:-0500
TZNAME:EST
DTSTART:20241103T060000
END:STANDARD
END:VTIMEZONE
BEGIN:VEVENT
DTSTART;TZID=America/New_York:20230305T103000
DTEND;TZID=America/New_York:20230305T123000
DTSTAMP:20260422T044131
CREATED:20230212T050405Z
LAST-MODIFIED:20230223T213908Z
UID:1323-1678012200-1678019400@kdbministries.com
SUMMARY:TABERNACLE OF DELIVERANCE & PRAISE
DESCRIPTION:Min. Borders will bring the morning message at THE TAB!!
URL:https://kdbministries.com/event/tabernacle-of-deliverance-praise-2/
LOCATION:Tabernacle of Deliverance & Praise\, 4748 Liberty Highway\, Anderson\, SC\, 29622\, United States
ATTACH;FMTTYPE=image/png:https://kdbministries.com/wp-content/uploads/2019/10/KB-12.png
END:VEVENT
BEGIN:VEVENT
DTSTART;TZID=America/New_York:20230312T100000
DTEND;TZID=America/New_York:20230312T113000
DTSTAMP:20260422T044131
CREATED:20230223T215216Z
LAST-MODIFIED:20230223T215216Z
UID:1341-1678615200-1678620600@kdbministries.com
SUMMARY:Asbury Memorial Baptist Church
DESCRIPTION:Join Minister Borders as she brings the morning message!!
URL:https://kdbministries.com/event/asbury-memorial-baptist-church-7/
LOCATION:Asbury Memorial Baptist Church\, 1505 Benjamin St.\, Anderson\, SC\, 29624\, United States
ATTACH;FMTTYPE=image/jpeg:https://kdbministries.com/wp-content/uploads/2019/10/Home-Hero1.jpg
END:VEVENT
BEGIN:VEVENT
DTSTART;TZID=America/New_York:20230318T120000
DTEND;TZID=America/New_York:20230318T143000
DTSTAMP:20260422T044131
CREATED:20221214T002905Z
LAST-MODIFIED:20221214T002905Z
UID:1283-1679140800-1679149800@kdbministries.com
SUMMARY:S.W.A.T.  Women's Conference
DESCRIPTION:Join Minister Borders as the Keynote speaker at the Sisters With Anointed Testimonies Women’s Conference! This will take place on Saturday\,  March 18th @ 12:00Noon! More details to come.
URL:https://kdbministries.com/event/s-w-a-t-womens-conference/
LOCATION:Jackson EMC\, 850 Commerce rd\, Jefferson\, GA\, 30549\, United States
ATTACH;FMTTYPE=image/png:https://kdbministries.com/wp-content/uploads/2019/10/KB-12.png
END:VEVENT
BEGIN:VEVENT
DTSTART;TZID=America/New_York:20230326T094500
DTEND;TZID=America/New_York:20230326T113000
DTSTAMP:20260422T044131
CREATED:20230102T183228Z
LAST-MODIFIED:20230102T183228Z
UID:1302-1679823900-1679830200@kdbministries.com
SUMMARY:LONG BRANCH BAPTIST CHURCH - WOMEN'S EMPOWERMENT WEEKEND
DESCRIPTION:Join Minister Borders as she delivers the morning message.
URL:https://kdbministries.com/event/long-branch-baptist-church-womens-empowerment-weekend/
LOCATION:Long Branch Baptist Church\, 28 Bolt St\, Greenville\, SC\, 29605\, United States
ATTACH;FMTTYPE=image/jpeg:https://kdbministries.com/wp-content/uploads/2019/10/Preach5.jpg
END:VEVENT
END:VCALENDAR