BEGIN:VCALENDAR
VERSION:2.0
PRODID:-//KDB Ministries - ECPv6.15.20//NONSGML v1.0//EN
CALSCALE:GREGORIAN
METHOD:PUBLISH
X-ORIGINAL-URL:https://kdbministries.com
X-WR-CALDESC:Events for KDB Ministries
REFRESH-INTERVAL;VALUE=DURATION:PT1H
X-Robots-Tag:noindex
X-PUBLISHED-TTL:PT1H
BEGIN:VTIMEZONE
TZID:America/New_York
BEGIN:DAYLIGHT
TZOFFSETFROM:-0500
TZOFFSETTO:-0400
TZNAME:EDT
DTSTART:20220313T070000
END:DAYLIGHT
BEGIN:STANDARD
TZOFFSETFROM:-0400
TZOFFSETTO:-0500
TZNAME:EST
DTSTART:20221106T060000
END:STANDARD
BEGIN:DAYLIGHT
TZOFFSETFROM:-0500
TZOFFSETTO:-0400
TZNAME:EDT
DTSTART:20230312T070000
END:DAYLIGHT
BEGIN:STANDARD
TZOFFSETFROM:-0400
TZOFFSETTO:-0500
TZNAME:EST
DTSTART:20231105T060000
END:STANDARD
BEGIN:DAYLIGHT
TZOFFSETFROM:-0500
TZOFFSETTO:-0400
TZNAME:EDT
DTSTART:20240310T070000
END:DAYLIGHT
BEGIN:STANDARD
TZOFFSETFROM:-0400
TZOFFSETTO:-0500
TZNAME:EST
DTSTART:20241103T060000
END:STANDARD
END:VTIMEZONE
BEGIN:VEVENT
DTSTART;TZID=America/New_York:20230423T100000
DTEND;TZID=America/New_York:20230423T120000
DTSTAMP:20260422T044128
CREATED:20230328T124920Z
LAST-MODIFIED:20230328T124920Z
UID:1362-1682244000-1682251200@kdbministries.com
SUMMARY:ASBURY MEMORIAL BAPTIST CHURCH
DESCRIPTION:JOIN MIN. BORDERS AS SHE SHARES THE MORNING MESSAGE!!
URL:https://kdbministries.com/event/asbury-memorial-baptist-church-8/
LOCATION:Asbury Memorial Baptist Church\, 1505 Benjamin St.\, Anderson\, SC\, 29624\, United States
ATTACH;FMTTYPE=image/jpeg:https://kdbministries.com/wp-content/uploads/2019/10/Home-Hero1.jpg
END:VEVENT
END:VCALENDAR