BEGIN:VCALENDAR
VERSION:2.0
PRODID:-//KDB Ministries - ECPv6.15.20//NONSGML v1.0//EN
CALSCALE:GREGORIAN
METHOD:PUBLISH
X-WR-CALNAME:KDB Ministries
X-ORIGINAL-URL:https://kdbministries.com
X-WR-CALDESC:Events for KDB Ministries
REFRESH-INTERVAL;VALUE=DURATION:PT1H
X-Robots-Tag:noindex
X-PUBLISHED-TTL:PT1H
BEGIN:VTIMEZONE
TZID:America/New_York
BEGIN:DAYLIGHT
TZOFFSETFROM:-0500
TZOFFSETTO:-0400
TZNAME:EDT
DTSTART:20210314T070000
END:DAYLIGHT
BEGIN:STANDARD
TZOFFSETFROM:-0400
TZOFFSETTO:-0500
TZNAME:EST
DTSTART:20211107T060000
END:STANDARD
BEGIN:DAYLIGHT
TZOFFSETFROM:-0500
TZOFFSETTO:-0400
TZNAME:EDT
DTSTART:20220313T070000
END:DAYLIGHT
BEGIN:STANDARD
TZOFFSETFROM:-0400
TZOFFSETTO:-0500
TZNAME:EST
DTSTART:20221106T060000
END:STANDARD
BEGIN:DAYLIGHT
TZOFFSETFROM:-0500
TZOFFSETTO:-0400
TZNAME:EDT
DTSTART:20230312T070000
END:DAYLIGHT
BEGIN:STANDARD
TZOFFSETFROM:-0400
TZOFFSETTO:-0500
TZNAME:EST
DTSTART:20231105T060000
END:STANDARD
END:VTIMEZONE
BEGIN:VEVENT
DTSTART;TZID=America/New_York:20221126T100000
DTEND;TZID=America/New_York:20221126T113000
DTSTAMP:20260420T131119
CREATED:20220926T202825Z
LAST-MODIFIED:20220926T202825Z
UID:1262-1669456800-1669462200@kdbministries.com
SUMMARY:Asbury Memorial Baptist Church
DESCRIPTION:Join Minister Borders as she brings the morning message.
URL:https://kdbministries.com/event/asbury-memorial-baptist-church-4/
LOCATION:Asbury Memorial Baptist Church\, 1505 Benjamin St.\, Anderson\, SC\, 29624\, United States
ATTACH;FMTTYPE=image/jpeg:https://kdbministries.com/wp-content/uploads/2019/10/praying-hands-cross.jpg
END:VEVENT
END:VCALENDAR