BEGIN:VCALENDAR
VERSION:2.0
PRODID:-//KDB Ministries - ECPv6.15.20//NONSGML v1.0//EN
CALSCALE:GREGORIAN
METHOD:PUBLISH
X-WR-CALNAME:KDB Ministries
X-ORIGINAL-URL:https://kdbministries.com
X-WR-CALDESC:Events for KDB Ministries
REFRESH-INTERVAL;VALUE=DURATION:PT1H
X-Robots-Tag:noindex
X-PUBLISHED-TTL:PT1H
BEGIN:VTIMEZONE
TZID:America/New_York
BEGIN:DAYLIGHT
TZOFFSETFROM:-0500
TZOFFSETTO:-0400
TZNAME:EDT
DTSTART:20210314T070000
END:DAYLIGHT
BEGIN:STANDARD
TZOFFSETFROM:-0400
TZOFFSETTO:-0500
TZNAME:EST
DTSTART:20211107T060000
END:STANDARD
BEGIN:DAYLIGHT
TZOFFSETFROM:-0500
TZOFFSETTO:-0400
TZNAME:EDT
DTSTART:20220313T070000
END:DAYLIGHT
BEGIN:STANDARD
TZOFFSETFROM:-0400
TZOFFSETTO:-0500
TZNAME:EST
DTSTART:20221106T060000
END:STANDARD
BEGIN:DAYLIGHT
TZOFFSETFROM:-0500
TZOFFSETTO:-0400
TZNAME:EDT
DTSTART:20230312T070000
END:DAYLIGHT
BEGIN:STANDARD
TZOFFSETFROM:-0400
TZOFFSETTO:-0500
TZNAME:EST
DTSTART:20231105T060000
END:STANDARD
END:VTIMEZONE
BEGIN:VEVENT
DTSTART;TZID=America/New_York:20221113T103000
DTEND;TZID=America/New_York:20221113T120000
DTSTAMP:20260424T043811
CREATED:20220925T021122Z
LAST-MODIFIED:20220925T021122Z
UID:1250-1668335400-1668340800@kdbministries.com
SUMMARY:New Holly Light Baptist Church
DESCRIPTION:Join Minister Borders as she brings the message for Women’s Day during morning worship service!!
URL:https://kdbministries.com/event/new-holly-light-baptist-church/
LOCATION:New Holly Light Baptist Church\, 6300 Highway 187\, Anderson\, South Carolina\, 29625\, United States
ATTACH;FMTTYPE=image/jpeg:https://kdbministries.com/wp-content/uploads/2019/10/Home-Hero1.jpg
END:VEVENT
END:VCALENDAR