BEGIN:VCALENDAR
VERSION:2.0
PRODID:-//KDB Ministries - ECPv6.15.20//NONSGML v1.0//EN
CALSCALE:GREGORIAN
METHOD:PUBLISH
X-WR-CALNAME:KDB Ministries
X-ORIGINAL-URL:https://kdbministries.com
X-WR-CALDESC:Events for KDB Ministries
REFRESH-INTERVAL;VALUE=DURATION:PT1H
X-Robots-Tag:noindex
X-PUBLISHED-TTL:PT1H
BEGIN:VTIMEZONE
TZID:America/New_York
BEGIN:DAYLIGHT
TZOFFSETFROM:-0500
TZOFFSETTO:-0400
TZNAME:EDT
DTSTART:20210314T070000
END:DAYLIGHT
BEGIN:STANDARD
TZOFFSETFROM:-0400
TZOFFSETTO:-0500
TZNAME:EST
DTSTART:20211107T060000
END:STANDARD
BEGIN:DAYLIGHT
TZOFFSETFROM:-0500
TZOFFSETTO:-0400
TZNAME:EDT
DTSTART:20220313T070000
END:DAYLIGHT
BEGIN:STANDARD
TZOFFSETFROM:-0400
TZOFFSETTO:-0500
TZNAME:EST
DTSTART:20221106T060000
END:STANDARD
BEGIN:DAYLIGHT
TZOFFSETFROM:-0500
TZOFFSETTO:-0400
TZNAME:EDT
DTSTART:20230312T070000
END:DAYLIGHT
BEGIN:STANDARD
TZOFFSETFROM:-0400
TZOFFSETTO:-0500
TZNAME:EST
DTSTART:20231105T060000
END:STANDARD
END:VTIMEZONE
BEGIN:VEVENT
DTSTART;TZID=America/New_York:20220917T090000
DTEND;TZID=America/New_York:20220917T120000
DTSTAMP:20260424T043815
CREATED:20220723T052322Z
LAST-MODIFIED:20220723T052322Z
UID:1184-1663405200-1663416000@kdbministries.com
SUMMARY:Salem Missonary Baptist Church
DESCRIPTION:Join Minister Borders as she presents a class on spiritual and financial health and wealth.
URL:https://kdbministries.com/event/salem-missonary-baptist-church/
LOCATION:Salem Missionary Baptist Church\, 1145 Crestview Road\, Anderson\, SC\, 29621\, United States
ATTACH;FMTTYPE=image/jpeg:https://kdbministries.com/wp-content/uploads/2019/09/cropped-KDB-Logo.jpg
END:VEVENT
END:VCALENDAR